BEGIN:VCALENDAR
VERSION:2.0
PRODID:-//International Waldenstrom’s Macroglobulinemia Foundation - ECPv6.15.18//NONSGML v1.0//EN
CALSCALE:GREGORIAN
METHOD:PUBLISH
X-WR-CALNAME:International Waldenstrom’s Macroglobulinemia Foundation
X-ORIGINAL-URL:https://iwmf.com
X-WR-CALDESC:Events for International Waldenstrom’s Macroglobulinemia Foundation
REFRESH-INTERVAL;VALUE=DURATION:PT1H
X-Robots-Tag:noindex
X-PUBLISHED-TTL:PT1H
BEGIN:VTIMEZONE
TZID:America/New_York
BEGIN:DAYLIGHT
TZOFFSETFROM:-0500
TZOFFSETTO:-0400
TZNAME:EDT
DTSTART:20250309T070000
END:DAYLIGHT
BEGIN:STANDARD
TZOFFSETFROM:-0400
TZOFFSETTO:-0500
TZNAME:EST
DTSTART:20251102T060000
END:STANDARD
BEGIN:DAYLIGHT
TZOFFSETFROM:-0500
TZOFFSETTO:-0400
TZNAME:EDT
DTSTART:20260308T070000
END:DAYLIGHT
BEGIN:STANDARD
TZOFFSETFROM:-0400
TZOFFSETTO:-0500
TZNAME:EST
DTSTART:20261101T060000
END:STANDARD
BEGIN:DAYLIGHT
TZOFFSETFROM:-0500
TZOFFSETTO:-0400
TZNAME:EDT
DTSTART:20270314T070000
END:DAYLIGHT
BEGIN:STANDARD
TZOFFSETFROM:-0400
TZOFFSETTO:-0500
TZNAME:EST
DTSTART:20271107T060000
END:STANDARD
END:VTIMEZONE
BEGIN:VTIMEZONE
TZID:America/Denver
BEGIN:DAYLIGHT
TZOFFSETFROM:-0700
TZOFFSETTO:-0600
TZNAME:MDT
DTSTART:20250309T090000
END:DAYLIGHT
BEGIN:STANDARD
TZOFFSETFROM:-0600
TZOFFSETTO:-0700
TZNAME:MST
DTSTART:20251102T080000
END:STANDARD
BEGIN:DAYLIGHT
TZOFFSETFROM:-0700
TZOFFSETTO:-0600
TZNAME:MDT
DTSTART:20260308T090000
END:DAYLIGHT
BEGIN:STANDARD
TZOFFSETFROM:-0600
TZOFFSETTO:-0700
TZNAME:MST
DTSTART:20261101T080000
END:STANDARD
BEGIN:DAYLIGHT
TZOFFSETFROM:-0700
TZOFFSETTO:-0600
TZNAME:MDT
DTSTART:20270314T090000
END:DAYLIGHT
BEGIN:STANDARD
TZOFFSETFROM:-0600
TZOFFSETTO:-0700
TZNAME:MST
DTSTART:20271107T080000
END:STANDARD
END:VTIMEZONE
BEGIN:VEVENT
DTSTART;TZID=America/New_York:20260421T120000
DTEND;TZID=America/New_York:20260421T130000
DTSTAMP:20260421T064520
CREATED:20260326T143125Z
LAST-MODIFIED:20260326T143125Z
UID:283220-1776772800-1776776400@iwmf.com
SUMMARY:Expressive Arts with Dana
DESCRIPTION:Get Creative with Dana – Click to sign up here.\nJoin expressive arts therapist Dana Kuehn to explore the creative process! Expressive Arts is a compassionate and flexible approach to healing that blends various modalities like visual arts\, movement\, and music to foster self-discovery. This practice helps individuals\, particularly those navigating cancer treatment\, reconnect with themselves through the creative process rather than technical skill.\nTry simple\, guided exercises within the safe context of your WM community to experience the mindful\, restorative\, and emotional benefits of engaging in expressive arts.\nWhat to bring:\n\n\nConsider investing in a blank page journal\, though sheets of any paper are just fine.\n\n\nWhatever drawing implements you prefer to use; Dana recommends either Jupitearth Tempera Paint Sticks or Faber-Castell Gelato Pens for something fun and easy to use.\n\n\nFor those who don’t want to draw or paint\, collage with magazine or any papers is always an option.\n\n\nBio: Dana Kuehn\, M.S.\, LPC\, LCMHC\, is a breast cancer survivor and seasoned therapist. Dana holds a certification in Expressive Arts and has specialized training in Nature Therapy\, blending her deep love of the arts and the natural world into her healing work. She has led transformative workshops and classes in diverse settings\, including health spas\, homeless shelters\, colleges\, and cancer support communities. Dana finds profound connection in facilitating the creative process with groups\, and in quiet moments of stillness—like watching a butterfly gently land on a blossom—where spirit and presence come alive for her.\nSign up here.
URL:https://iwmf.com/event/expressive-arts-with-dana/
CATEGORIES:IWMF Event,Wellness Program
END:VEVENT
BEGIN:VEVENT
DTSTART;TZID=America/Denver:20260421T140000
DTEND;TZID=America/Denver:20260421T150000
DTSTAMP:20260421T064520
CREATED:20260326T204154Z
LAST-MODIFIED:20260326T204154Z
UID:283232-1776780000-1776783600@iwmf.com
SUMMARY:CO/WY Support Group Meeting
DESCRIPTION:CO/WY Support Group Meeting \nApril 21 \n2:00PM on Zoom \nFor Zoom link\, contact Cathy goldzimm@msn.com \n 
URL:https://iwmf.com/event/co-wy-support-group-meeting-2/
CATEGORIES:Support Group Meeting
END:VEVENT
END:VCALENDAR